BEGIN:VCALENDAR
VERSION:2.0
PRODID:-//VELOXYGENE 90 - ECPv6.15.20//NONSGML v1.0//EN
CALSCALE:GREGORIAN
METHOD:PUBLISH
X-ORIGINAL-URL:https://veloxygene90.fr
X-WR-CALDESC:Évènements pour VELOXYGENE 90
REFRESH-INTERVAL;VALUE=DURATION:PT1H
X-Robots-Tag:noindex
X-PUBLISHED-TTL:PT1H
BEGIN:VTIMEZONE
TZID:Europe/Paris
BEGIN:DAYLIGHT
TZOFFSETFROM:+0100
TZOFFSETTO:+0200
TZNAME:CEST
DTSTART:20250330T010000
END:DAYLIGHT
BEGIN:STANDARD
TZOFFSETFROM:+0200
TZOFFSETTO:+0100
TZNAME:CET
DTSTART:20251026T010000
END:STANDARD
BEGIN:DAYLIGHT
TZOFFSETFROM:+0100
TZOFFSETTO:+0200
TZNAME:CEST
DTSTART:20260329T010000
END:DAYLIGHT
BEGIN:STANDARD
TZOFFSETFROM:+0200
TZOFFSETTO:+0100
TZNAME:CET
DTSTART:20261025T010000
END:STANDARD
BEGIN:DAYLIGHT
TZOFFSETFROM:+0100
TZOFFSETTO:+0200
TZNAME:CEST
DTSTART:20270328T010000
END:DAYLIGHT
BEGIN:STANDARD
TZOFFSETFROM:+0200
TZOFFSETTO:+0100
TZNAME:CET
DTSTART:20271031T010000
END:STANDARD
END:VTIMEZONE
BEGIN:VEVENT
DTSTART;TZID=Europe/Paris:20260202T180000
DTEND;TZID=Europe/Paris:20260202T200000
DTSTAMP:20260421T144525
CREATED:20260115T164612Z
LAST-MODIFIED:20260202T085401Z
UID:2752-1770055200-1770062400@veloxygene90.fr
SUMMARY:Prochain CA le 2 février 2026
DESCRIPTION:Le prochain CA de VELOXYGENE 90 aura lieu le 2 février 2026 \nCA annulé et reporté à une date ultérieure
URL:https://veloxygene90.fr/event/prochain-ca-le-2-fevrier-2026/
LOCATION:OMS\, 10 rue de Londres\, BELFORT\, 90000\, France
CATEGORIES:Réunion interne
END:VEVENT
END:VCALENDAR